BEGIN:VCALENDAR
VERSION:2.0
PRODID:-//IABC Chicago - ECPv6.0.10//NONSGML v1.0//EN
CALSCALE:GREGORIAN
METHOD:PUBLISH
X-ORIGINAL-URL:https://chicago.iabc.com
X-WR-CALDESC:Events for IABC Chicago
REFRESH-INTERVAL;VALUE=DURATION:PT1H
X-Robots-Tag:noindex
X-PUBLISHED-TTL:PT1H
BEGIN:VTIMEZONE
TZID:America/Chicago
BEGIN:DAYLIGHT
TZOFFSETFROM:-0600
TZOFFSETTO:-0500
TZNAME:CDT
DTSTART:20230312T080000
END:DAYLIGHT
BEGIN:STANDARD
TZOFFSETFROM:-0500
TZOFFSETTO:-0600
TZNAME:CST
DTSTART:20231105T070000
END:STANDARD
END:VTIMEZONE
BEGIN:VEVENT
DTSTART;TZID=America/Chicago:20230419T120000
DTEND;TZID=America/Chicago:20230419T130000
DTSTAMP:20260424T174043
CREATED:20230419T170016Z
LAST-MODIFIED:20230324T105817Z
UID:10992-1681905600-1681909200@chicago.iabc.com
SUMMARY:Understanding ESG Reporting: Best Practices and Evolving Expectations - Wed.\, April 19\, Noon Webinar
DESCRIPTION:Environmental\, social and governance (ESG) reporting is a critical tool for telling your company’s sustainability story in a transparent and compelling way in order to satisfy stakeholder demands and comply with new regulations. Whether you’re just getting started on your ESG journey or ready to take a leap forward\, this session is for you. We’ll cover: \n\nWhat’s included in ESG reporting and why it’s a business priority\nEvolving regulations and frameworks\nSetting goals and tracking progress to meet stakeholder expectations and regulatory requirements\nEssential components of ESG reporting\nBeyond the report: ESG storytelling internally and externally\n\nJoin IABC/Chicago as we welcome Cathy McCarron\, Practice Lead\, ESG Reporting & Sustainability Communications\, with Pivot Strategies out of Minneapolis. \nCathy brings more than 30 years of experience to the Pivot team\, including running her own communications consulting business for 18 years after working in corporate and agency roles. Cathy’s broad expertise includes over a decade leading CSR and ESG reporting projects — ideal background for her role as Pivot’s ESG Reporting and Sustainability Communications Practice Leader. She is a strategic\, versatile communicator adept at delivering targeted communications and reporting solutions for clients across a variety of industries. \nRegister Now! \n$10 to register & attend \n 
URL:https://chicago.iabc.com/event/understanding-esg-reporting-best-practices-and-evolving-expectations-wed-april-19-noon-webinar/
CATEGORIES:Professional Development,Webinar
ATTACH;FMTTYPE=image/jpeg:https://chicago.iabc.com/wp-content/uploads/2023/04/what-is-esg-reporting-december-20-2021-2048x1151-1.jpeg
END:VEVENT
END:VCALENDAR