BEGIN:VCALENDAR
VERSION:2.0
PRODID:-//IABC Chicago - ECPv6.0.10//NONSGML v1.0//EN
CALSCALE:GREGORIAN
METHOD:PUBLISH
X-ORIGINAL-URL:https://chicago.iabc.com
X-WR-CALDESC:Events for IABC Chicago
REFRESH-INTERVAL;VALUE=DURATION:PT1H
X-Robots-Tag:noindex
X-PUBLISHED-TTL:PT1H
BEGIN:VTIMEZONE
TZID:America/Chicago
BEGIN:DAYLIGHT
TZOFFSETFROM:-0600
TZOFFSETTO:-0500
TZNAME:CDT
DTSTART:20230312T080000
END:DAYLIGHT
BEGIN:STANDARD
TZOFFSETFROM:-0500
TZOFFSETTO:-0600
TZNAME:CST
DTSTART:20231105T070000
END:STANDARD
END:VTIMEZONE
BEGIN:VEVENT
DTSTART;TZID=America/Chicago:20230509T170000
DTEND;TZID=America/Chicago:20230509T190000
DTSTAMP:20260424T161936
CREATED:20230421T144412Z
LAST-MODIFIED:20230421T144412Z
UID:11059-1683651600-1683658800@chicago.iabc.com
SUMMARY:Tues.\, May 9 - Networking & Establishing a Leadership Brand - Pinstripes\, Chicago - 5-7pm
DESCRIPTION:Springtime in the City! Join IABC/Chicago on May 9 for a fun networking event to reconnect with your coms colleagues! We have Pinstripes reserved and the first drink (or two) is on us! \nWe will mix & mingle\, and then turn it over to Alyssa Cox\, the founder of Blue Swift Consulting\, who will work with us on identifying our leadership brand as we work the room with intention\, and then we have more time to mingle! \nRegistration is open! \n$30 Members \n$45 Nonmembers \n$15 Students (undergrad & grad)
URL:https://chicago.iabc.com/event/tues-may-9-networking-establishing-a-leadership-brand-pinstripes-chicago-5-7pm/
END:VEVENT
END:VCALENDAR