BEGIN:VCALENDAR
VERSION:2.0
PRODID:-//IABC Chicago - ECPv6.0.10//NONSGML v1.0//EN
CALSCALE:GREGORIAN
METHOD:PUBLISH
X-WR-CALNAME:IABC Chicago
X-ORIGINAL-URL:https://chicago.iabc.com
X-WR-CALDESC:Events for IABC Chicago
REFRESH-INTERVAL;VALUE=DURATION:PT1H
X-Robots-Tag:noindex
X-PUBLISHED-TTL:PT1H
BEGIN:VTIMEZONE
TZID:America/Chicago
BEGIN:DAYLIGHT
TZOFFSETFROM:-0600
TZOFFSETTO:-0500
TZNAME:CDT
DTSTART:20230312T080000
END:DAYLIGHT
BEGIN:STANDARD
TZOFFSETFROM:-0500
TZOFFSETTO:-0600
TZNAME:CST
DTSTART:20231105T070000
END:STANDARD
END:VTIMEZONE
BEGIN:VEVENT
DTSTART;TZID=America/Chicago:20230809T120000
DTEND;TZID=America/Chicago:20230809T130000
DTSTAMP:20260424T063625
CREATED:20230802T133951Z
LAST-MODIFIED:20230802T133951Z
UID:11133-1691582400-1691586000@chicago.iabc.com
SUMMARY:Too Hot to Handle: Regulation\, AI and ESG Webinar: Aug. 9 – 12pm – 1pm
DESCRIPTION:Join us for our first webinar of the IABC/Chicago programming year! \n \nWe’re presenting a session to cover a variety of major issues affecting our industry. With rapid advancements in AI and interrelated fights regarding privacy and copyright\, coms professionals are running on fumes. Add to that\, one of the burgeoning fields in our industry\, that being ESG has now been engulfed in “the culture wars” as many commentaries have described. \nTo help tie these issues together and explore these topics\, we’ve invited James Rubec\, the head of product at Fullintel and a former PR professional to share the facts\, and some stories about these tumultuous times. \nWhat We’ll Cover: \n\nCopyright Government Fistfight\nAI Says “Hold My Beer”\nESG In The Hot Seat\n\nHead of Product at Fullint el\, James is one of Canada’s top leaders in PR technology and strategy. His unwavering commitment to transforming groundbreaking concepts into viable products has empowered Fortune 500 brands to better understand their public image\, enabling them to seize unseen opportunities and further their growth. Rubec’s commentary has been featured in USA Today\, CBC’s The National\, Yahoo Finance\, Variety Magazine\, and the Financial Post\, and his analyses are included in publications like The Conversation and Wired Magazine. \n \nRegister Today! \n$10 to register & attend
URL:https://chicago.iabc.com/event/too-hot-to-handle-regulation-ai-and-esg-webinar-aug-9-12pm-1pm/
END:VEVENT
END:VCALENDAR