BEGIN:VCALENDAR
VERSION:2.0
PRODID:-//IABC Chicago - ECPv6.0.10//NONSGML v1.0//EN
CALSCALE:GREGORIAN
METHOD:PUBLISH
X-ORIGINAL-URL:https://chicago.iabc.com
X-WR-CALDESC:Events for IABC Chicago
REFRESH-INTERVAL;VALUE=DURATION:PT1H
X-Robots-Tag:noindex
X-PUBLISHED-TTL:PT1H
BEGIN:VTIMEZONE
TZID:America/Chicago
BEGIN:DAYLIGHT
TZOFFSETFROM:-0600
TZOFFSETTO:-0500
TZNAME:CDT
DTSTART:20240310T080000
END:DAYLIGHT
BEGIN:STANDARD
TZOFFSETFROM:-0500
TZOFFSETTO:-0600
TZNAME:CST
DTSTART:20241103T070000
END:STANDARD
END:VTIMEZONE
BEGIN:VEVENT
DTSTART;TZID=America/Chicago:20240123T120000
DTEND;TZID=America/Chicago:20240123T130000
DTSTAMP:20260423T153501
CREATED:20231012T220145Z
LAST-MODIFIED:20231012T220145Z
UID:11190-1706011200-1706014800@chicago.iabc.com
SUMMARY:Top 10 Trends in Internal Comms with Trish Nicolas: January 23 Webinar\, 12 - 1pmCT
DESCRIPTION:
URL:https://chicago.iabc.com/event/top-10-trends-in-internal-comms-with-trish-nicolas-january-23-webinar-12-1pmct/
END:VEVENT
END:VCALENDAR