BEGIN:VCALENDAR
VERSION:2.0
PRODID:-//IABC Chicago - ECPv6.0.10//NONSGML v1.0//EN
CALSCALE:GREGORIAN
METHOD:PUBLISH
X-WR-CALNAME:IABC Chicago
X-ORIGINAL-URL:https://chicago.iabc.com
X-WR-CALDESC:Events for IABC Chicago
REFRESH-INTERVAL;VALUE=DURATION:PT1H
X-Robots-Tag:noindex
X-PUBLISHED-TTL:PT1H
BEGIN:VTIMEZONE
TZID:America/Chicago
BEGIN:DAYLIGHT
TZOFFSETFROM:-0600
TZOFFSETTO:-0500
TZNAME:CDT
DTSTART:20230312T080000
END:DAYLIGHT
BEGIN:STANDARD
TZOFFSETFROM:-0500
TZOFFSETTO:-0600
TZNAME:CST
DTSTART:20231105T070000
END:STANDARD
END:VTIMEZONE
BEGIN:VEVENT
DTSTART;TZID=America/Chicago:20230215T120000
DTEND;TZID=America/Chicago:20230215T130000
DTSTAMP:20260424T190154
CREATED:20230116T220440Z
LAST-MODIFIED:20230116T220702Z
UID:10967-1676462400-1676466000@chicago.iabc.com
SUMMARY:Effective Data Storytelling– Wed.\, Feb\, 15\, 2023 – Noon – 1pmCT
DESCRIPTION:Turn your Canva and Tableau into the best story structures to fit your audience. Transforming data into visual communication is only one part of the picture—it’s just as important to engage your audience with a memorable and persuasive story. Narratives are more powerful than raw statistics\, more enduring than pretty charts. Effective Data Storytelling teaches you how to communicate insights that influence decisions\, inspire action\, and drive change. Gain practical advice for communicating research results that you can immediately apply in your day-to-day communications. \nFeaturing Tony Cheevers\, Researchscape \nRegister Today!
URL:https://chicago.iabc.com/event/effective-data-storytelling-wed-feb-15-2023-noon-1pmct/
END:VEVENT
END:VCALENDAR